BEGIN:VCALENDAR
VERSION:2.0
PRODID:-//The Creative Launch - ECPv6.15.20//NONSGML v1.0//EN
CALSCALE:GREGORIAN
METHOD:PUBLISH
X-WR-CALNAME:The Creative Launch
X-ORIGINAL-URL:https://thecreativelaunch.com
X-WR-CALDESC:Events for The Creative Launch
REFRESH-INTERVAL;VALUE=DURATION:PT1H
X-Robots-Tag:noindex
X-PUBLISHED-TTL:PT1H
BEGIN:VTIMEZONE
TZID:America/Los_Angeles
BEGIN:DAYLIGHT
TZOFFSETFROM:-0800
TZOFFSETTO:-0700
TZNAME:PDT
DTSTART:20240310T100000
END:DAYLIGHT
BEGIN:STANDARD
TZOFFSETFROM:-0700
TZOFFSETTO:-0800
TZNAME:PST
DTSTART:20241103T090000
END:STANDARD
BEGIN:DAYLIGHT
TZOFFSETFROM:-0800
TZOFFSETTO:-0700
TZNAME:PDT
DTSTART:20250309T100000
END:DAYLIGHT
BEGIN:STANDARD
TZOFFSETFROM:-0700
TZOFFSETTO:-0800
TZNAME:PST
DTSTART:20251102T090000
END:STANDARD
BEGIN:DAYLIGHT
TZOFFSETFROM:-0800
TZOFFSETTO:-0700
TZNAME:PDT
DTSTART:20260308T100000
END:DAYLIGHT
BEGIN:STANDARD
TZOFFSETFROM:-0700
TZOFFSETTO:-0800
TZNAME:PST
DTSTART:20261101T090000
END:STANDARD
END:VTIMEZONE
BEGIN:VEVENT
DTSTART;TZID=America/Los_Angeles:20250718T180000
DTEND;TZID=America/Los_Angeles:20250718T180000
DTSTAMP:20260419T063154
CREATED:20250514T180658Z
LAST-MODIFIED:20250710T234847Z
UID:2326-1752861600-1752861600@thecreativelaunch.com
SUMMARY:Dufur Christian Church: Night of Worship
DESCRIPTION:
URL:https://thecreativelaunch.com/event/dufur-christian-church-night-of-worship/
LOCATION:Dufur Christian Church\, 315 NE Harrison St\, Dufur\, OR\, 97021\, United States
END:VEVENT
END:VCALENDAR